BEGIN:VCALENDAR
VERSION:2.0
PRODID:-//Tukios.com/
BEGIN:VEVENT
UID:6ec9d180-dbfe-4190-b48e-0a07ce42224d@www.cdfuneralhome.com
DTSTAMP:20260421T003622Z
DTSTART:20260425T180000Z
DTEND:20260425T200000Z
SUMMARY:Visitation
DESCRIPTION:
URL:https://www.cdfuneralhome.com/obituaries/ira-church
LOCATION:Calcutt-Dowling Funeral Home 512 2nd Loop Road  Florence SC 
	29505
GEO:34.166614;-79.7730653
END:VEVENT
END:VCALENDAR